BEGIN:VCALENDAR
VERSION:2.0
PRODID:-//Cybersecurity Advisors Network - ECPv6.15.20//NONSGML v1.0//EN
CALSCALE:GREGORIAN
METHOD:PUBLISH
X-WR-CALNAME:Cybersecurity Advisors Network
X-ORIGINAL-URL:https://cybersecurityadvisors.network
X-WR-CALDESC:Events for Cybersecurity Advisors Network
REFRESH-INTERVAL;VALUE=DURATION:PT1H
X-Robots-Tag:noindex
X-PUBLISHED-TTL:PT1H
BEGIN:VTIMEZONE
TZID:Europe/Helsinki
BEGIN:DAYLIGHT
TZOFFSETFROM:+0200
TZOFFSETTO:+0300
TZNAME:EEST
DTSTART:20240331T010000
END:DAYLIGHT
BEGIN:STANDARD
TZOFFSETFROM:+0300
TZOFFSETTO:+0200
TZNAME:EET
DTSTART:20241027T010000
END:STANDARD
BEGIN:DAYLIGHT
TZOFFSETFROM:+0200
TZOFFSETTO:+0300
TZNAME:EEST
DTSTART:20250330T010000
END:DAYLIGHT
BEGIN:STANDARD
TZOFFSETFROM:+0300
TZOFFSETTO:+0200
TZNAME:EET
DTSTART:20251026T010000
END:STANDARD
BEGIN:DAYLIGHT
TZOFFSETFROM:+0200
TZOFFSETTO:+0300
TZNAME:EEST
DTSTART:20260329T010000
END:DAYLIGHT
BEGIN:STANDARD
TZOFFSETFROM:+0300
TZOFFSETTO:+0200
TZNAME:EET
DTSTART:20261025T010000
END:STANDARD
END:VTIMEZONE
BEGIN:VTIMEZONE
TZID:Australia/Melbourne
BEGIN:STANDARD
TZOFFSETFROM:+1100
TZOFFSETTO:+1000
TZNAME:AEST
DTSTART:20240406T160000
END:STANDARD
BEGIN:DAYLIGHT
TZOFFSETFROM:+1000
TZOFFSETTO:+1100
TZNAME:AEDT
DTSTART:20241005T160000
END:DAYLIGHT
BEGIN:STANDARD
TZOFFSETFROM:+1100
TZOFFSETTO:+1000
TZNAME:AEST
DTSTART:20250405T160000
END:STANDARD
BEGIN:DAYLIGHT
TZOFFSETFROM:+1000
TZOFFSETTO:+1100
TZNAME:AEDT
DTSTART:20251004T160000
END:DAYLIGHT
BEGIN:STANDARD
TZOFFSETFROM:+1100
TZOFFSETTO:+1000
TZNAME:AEST
DTSTART:20260404T160000
END:STANDARD
BEGIN:DAYLIGHT
TZOFFSETFROM:+1000
TZOFFSETTO:+1100
TZNAME:AEDT
DTSTART:20261003T160000
END:DAYLIGHT
END:VTIMEZONE
BEGIN:VTIMEZONE
TZID:Europe/Paris
BEGIN:DAYLIGHT
TZOFFSETFROM:+0100
TZOFFSETTO:+0200
TZNAME:CEST
DTSTART:20240331T010000
END:DAYLIGHT
BEGIN:STANDARD
TZOFFSETFROM:+0200
TZOFFSETTO:+0100
TZNAME:CET
DTSTART:20241027T010000
END:STANDARD
BEGIN:DAYLIGHT
TZOFFSETFROM:+0100
TZOFFSETTO:+0200
TZNAME:CEST
DTSTART:20250330T010000
END:DAYLIGHT
BEGIN:STANDARD
TZOFFSETFROM:+0200
TZOFFSETTO:+0100
TZNAME:CET
DTSTART:20251026T010000
END:STANDARD
BEGIN:DAYLIGHT
TZOFFSETFROM:+0100
TZOFFSETTO:+0200
TZNAME:CEST
DTSTART:20260329T010000
END:DAYLIGHT
BEGIN:STANDARD
TZOFFSETFROM:+0200
TZOFFSETTO:+0100
TZNAME:CET
DTSTART:20261025T010000
END:STANDARD
END:VTIMEZONE
BEGIN:VEVENT
DTSTART;TZID=Europe/Helsinki:20250813T170000
DTEND;TZID=Europe/Helsinki:20250813T194500
DTSTAMP:20260420T013713
CREATED:20250704T005137Z
LAST-MODIFIED:20250718T014258Z
UID:100866-1755104400-1755114300@cybersecurityadvisors.network
SUMMARY:Is it Possible to Future-Proof the Cyber Workforce?
DESCRIPTION:  \nEvent Description:Join us for a timely and thought-provoking panel discussion exploring the challenges and opportunities of building a resilient\, adaptable\, and forward-ready cybersecurity workforce. This event brings together leading voices from across the cyber industry to share insights on workforce transformation\, skills development\, and talent pathways. \nOur keynote speaker and moderator for the evening is Heather Hoddinott\, Director of Solutions Engineering at Hack The Box. With deep expertise in hands-on cyber training and team capability development\, Heather brings a practical\, globally-informed lens to the question of workforce readiness. She’ll kick things off by asking: Is future-proofing even possible? Or is it time to reframe how we think about skills\, careers\, and resilience in the cyber domain? \nFollowing Heather’s keynote\, we’ll dive into a panel discussion featuring a diverse cross-section of industry voices: \n\n\nMaryam Shoraka – Cybersecurity Lead\, Sydney TrainsInsights from within critical infrastructure\, where digital transformation meets operational safety. \n\n\nMichael do Rozario – Partner\, Corrs Chambers Westgarth & CyAN MemberLegal and governance perspectives on frameworks that support future-ready teams. \n\n\nMichael McDonald – Technologist\, Co-founder of 3 Steps Data & CyAN MemberA challenger’s view from the intersection of data security\, compliance\, and zero-knowledge architecture. \n\n\nAndy Pedroso – Human Risk & Behaviour Specialist\, SoSafe & CyAN MemberFocused on workforce evolution\, training\, behavioural change\, and security culture. \n\n\nBritt McGill – Director of Talent and Community\, Leaders ITBringing a recruitment lens to the challenges and opportunities shaping today’s talent pipeline. \n\n\nThis will be an honest\, energising\, and nuanced conversation – no buzzwords\, just real talk about the demands and possibilities of a career in cybersecurity today. \nAs always\, the evening will feature generous networking time\, refreshments\, and a warm welcome from the CyAN APAC community. \nEvent Details:📅 Date: August 13\, 2025🕔 Time: 5:00 PM – 7:45 PM (Event lasts 2 hours and 45 minutes)📍 Location:Peoplebank Sydney IT Recruitment345 George Street\, Level 13Sydney\, NSW 2000\n \n\nAgenda:🕔 17:15 – 17:45 | Check-in and networking🕔 17:45 – 18:00 | Welcome Remarks and Introductions🕔 18:00 – 18:15 | Keynote Speech by Heather Hoddinott🕕 18:15 – 19:15 | Panel Discussion and Q&A🕖 19:15 – 19:20 | Closing Remarks and Door Prizes🕖 19:20 – 20:00 | Networking \n\nLineup: \nHeather Hoddinott – Hack the Box \nMaryam Shoraka – Sydney Trains \nMichael do Rozario – Corrs Chambers Westgarth & CyAN Member \nMichael McDonald – 3 Steps Data & CyAN Member \nAndy Pedroso – SoSafe & CyAN Member \nBritt McGill – Leaders IT \n\nHosted by:Cybersecurity Advisors Network (CyAN)\, Peoplebank\, and Leaders IT \nSpaces are limited – book your seat now! \n\n\n\n\n\n\n 
URL:https://cybersecurityadvisors.network/event/100866/
CATEGORIES:CyAN Featured Event
ATTACH;FMTTYPE=image/png:https://cybersecurityadvisors.network/wp-content/uploads/2025/07/Screenshot-2025-07-18-at-11.37.12-am.png
END:VEVENT
BEGIN:VEVENT
DTSTART;TZID=Australia/Melbourne:20250711T220000
DTEND;TZID=Australia/Melbourne:20250711T230000
DTSTAMP:20260420T013713
CREATED:20250617T232824Z
LAST-MODIFIED:20250702T041129Z
UID:100752-1752271200-1752274800@cybersecurityadvisors.network
SUMMARY:Cyber Safety and Privacy for Youth - Responsible AI 🤖 for GenZ Webinar
DESCRIPTION:Cyber Safety and Privacy for Youth – Responsible AI for Gen Z Webinar \n🗓️ Date: Friday\, 11 July 2025🕓 Time: 4:00pm GST / 5:30pm IST / 8:00am EST / 12:00pm GMT📍 Location: Online (Zoom) \nPresented by:Cybersecurity Advisors Network (CyAN)Enterprise IT World1CXO \nJoin us for a timely and thought-provoking webinar focused on the intersection of cyber safety\, digital privacy\, and responsible AI for Gen Z. With youth growing up in an AI-powered world\, how can we better protect and empower them? \n🎤 Moderator:Bharat Raigangar (CyAN Member) \n👥 Panelists: \nJean-Christophe (J-C) Le Toquin (CyAN Member) \nVaishnavi V (CyAN Member) \nKim Chandler McDonald (CyAN Member) \nMonika Arora \nExpect sharp insights\, expert perspectives\, and real-world strategies from leaders shaping the future of digital trust and youth protection. \n👉 Register now: Zoom Registration Link \nLet’s build a safer and smarter digital world for the next generation.
URL:https://cybersecurityadvisors.network/event/cyber-safety-and-privacy-for-youth-responsible-ai-%f0%9f%a4%96-for-genz-webinar/
CATEGORIES:CyAN Featured Event
ATTACH;FMTTYPE=image/jpeg:https://cybersecurityadvisors.network/wp-content/uploads/2025/06/Cyber-Safety-and-Privacy-for-Youth-–-Responsible-AI-1🤖-for-GenZ-Webinar.jpeg.jpg
END:VEVENT
BEGIN:VEVENT
DTSTART;TZID=Europe/Paris:20250626T103000
DTEND;TZID=Europe/Paris:20250626T120000
DTSTAMP:20260420T013713
CREATED:20250621T013405Z
LAST-MODIFIED:20250621T013405Z
UID:100772-1750933800-1750939200@cybersecurityadvisors.network
SUMMARY:DPO Forum Brunch & Learn Nantes - Matthieu Camus
DESCRIPTION:📢 Keynote Announcement – DPO Forum Brunch & Learn Nantes \n📅 Date: Thursday\, June 26\, 2025📍 Location: Quai West\, Nantes🕙 Time: 10:30 a.m. \n🎤 Topic: “GDPR and AI: Regulating the Use of Data to Innovate” \nArtificial intelligence is reshaping our daily lives\, but its development must align with strict data protection laws. The CNIL plays a central role in evaluating how algorithmic systems impact personal data. \nWhat are the new challenges? What precautions should be taken to train AI models while protecting individual rights? \nJoin Matthieu Camus as he unpacks the CNIL’s latest recommendations and explores best practices for responsible AI use. \nEnjoy a meaningful discussion over a friendly brunch! \n🎫 Register here: https://lnkd.in/e9rQKEih
URL:https://cybersecurityadvisors.network/event/dpo-forum-brunch-learn-nantes-matthieu-camus/
CATEGORIES:Members event
ATTACH;FMTTYPE=image/png:https://cybersecurityadvisors.network/wp-content/uploads/2025/06/Matthieu-Camus-Keynote.png
END:VEVENT
END:VCALENDAR