BEGIN:VCALENDAR
VERSION:2.0
PRODID:-//Cybersecurity Advisors Network - ECPv6.15.20//NONSGML v1.0//EN
CALSCALE:GREGORIAN
METHOD:PUBLISH
X-WR-CALNAME:Cybersecurity Advisors Network
X-ORIGINAL-URL:https://cybersecurityadvisors.network
X-WR-CALDESC:Events for Cybersecurity Advisors Network
REFRESH-INTERVAL;VALUE=DURATION:PT1H
X-Robots-Tag:noindex
X-PUBLISHED-TTL:PT1H
BEGIN:VTIMEZONE
TZID:Europe/Helsinki
BEGIN:DAYLIGHT
TZOFFSETFROM:+0200
TZOFFSETTO:+0300
TZNAME:EEST
DTSTART:20250330T010000
END:DAYLIGHT
BEGIN:STANDARD
TZOFFSETFROM:+0300
TZOFFSETTO:+0200
TZNAME:EET
DTSTART:20251026T010000
END:STANDARD
BEGIN:DAYLIGHT
TZOFFSETFROM:+0200
TZOFFSETTO:+0300
TZNAME:EEST
DTSTART:20260329T010000
END:DAYLIGHT
BEGIN:STANDARD
TZOFFSETFROM:+0300
TZOFFSETTO:+0200
TZNAME:EET
DTSTART:20261025T010000
END:STANDARD
BEGIN:DAYLIGHT
TZOFFSETFROM:+0200
TZOFFSETTO:+0300
TZNAME:EEST
DTSTART:20270328T010000
END:DAYLIGHT
BEGIN:STANDARD
TZOFFSETFROM:+0300
TZOFFSETTO:+0200
TZNAME:EET
DTSTART:20271031T010000
END:STANDARD
END:VTIMEZONE
BEGIN:VEVENT
DTSTART;TZID=Europe/Helsinki:20260422T000000
DTEND;TZID=Europe/Helsinki:20260424T235959
DTSTAMP:20260422T015120
CREATED:20260319T061032Z
LAST-MODIFIED:20260319T061034Z
UID:102084-1776816000-1777075199@cybersecurityadvisors.network
SUMMARY:Third Party & Supply Chain Cyber Security Summit
DESCRIPTION:About the Summit\n\n\n\nLearn the latest case studies on the end-to-end cyber security implementation practices when working with third parties to ensure a truly resilient and secure supply chain network at the Third Party & Supply Chain Cyber Security Summit. \n\n\n\nLed by 30+ TOP Information Security professionals from leading companies\, the discussion will allow you to see the issue from the perspective of diﬀerent industries & angles and identify the complex solution to implement in your company.
URL:https://cybersecurityadvisors.network/event/third-party-supply-chain-cyber-security-summit/
ATTACH;FMTTYPE=image/png:https://cybersecurityadvisors.network/wp-content/uploads/2026/03/Screenshot-2026-03-19-at-5.06.33-pm.png
END:VEVENT
END:VCALENDAR